BEGIN:VCALENDAR
VERSION:2.0
PRODID:-//hacksw/handcal//NONSGML v1.0//EN
CALSCALE:GREGORIAN
BEGIN:VEVENT
LOCATION:Vic
DESCRIPTION:
DTSTART:20260424T190000Z
DTEND:20260628T134500Z
SUMMARY:Dins el temple. Alfons Borrell\, obres en l’arquitectura
URL;VALUE=URI:https://arquitectes.cat/ca/content/dins-el-temple-alfons-borrell-obres-en-l%E2%80%99arquitectura
DTSTAMP:20260426T033243Z
UID:69ed6b3bd9927
END:VEVENT
END:VCALENDAR