BEGIN:VCALENDAR
VERSION:2.0
PRODID:-//hacksw/handcal//NONSGML v1.0//EN
CALSCALE:GREGORIAN
BEGIN:VEVENT
LOCATION:Barcelona
DESCRIPTION:
DTSTART:20260427T090000Z
DTEND:20260427T090000Z
SUMMARY:Presentació del Programa oficial del Congrés Mundial d'Arquitectes de la UIA 2026 Barcelona
URL;VALUE=URI:https://arquitectes.cat/ca/content/presentaci%C3%B3-del-programa-oficial-del-congr%C3%A9s-mundial-darquitectes-de-la-uia-2026-barcelona
DTSTAMP:20260419T150626Z
UID:69e4d352e77d0
END:VEVENT
END:VCALENDAR