BEGIN:VCALENDAR
VERSION:2.0
PRODID:-//hacksw/handcal//NONSGML v1.0//EN
CALSCALE:GREGORIAN
BEGIN:VEVENT
LOCATION:Sabadell
DESCRIPTION:
DTSTART:20260416T140000Z
DTEND:20260416T140000Z
SUMMARY:Visita Equipament Jean Piaget de Sabadell
URL;VALUE=URI:https://arquitectes.cat/ca/content/visita-equipament-jean-piaget-de-sabadell
DTSTAMP:20260419T181618Z
UID:69e4ffd225ac4
END:VEVENT
END:VCALENDAR