BEGIN:VCALENDAR
VERSION:2.0
PRODID:-//hacksw/handcal//NONSGML v1.0//EN
CALSCALE:GREGORIAN
BEGIN:VEVENT
LOCATION:Cadaqués
DESCRIPTION:
DTSTART:20261105T120000Z
DTEND:20261106T120000Z
SUMMARY:Save the date! Decarbonizing Architecture 2026
URL;VALUE=URI:https://arquitectes.cat/ca/node/42281
DTSTAMP:20260419T164321Z
UID:69e4ea094705c
END:VEVENT
END:VCALENDAR