BEGIN:VCALENDAR
VERSION:2.0
PRODID:-//hacksw/handcal//NONSGML v1.0//EN
CALSCALE:GREGORIAN
BEGIN:VEVENT
LOCATION:Barcelona
DESCRIPTION:
DTSTART:20260428T160000Z
DTEND:20260428T160000Z
SUMMARY:Dissenys d'arquitectes #3. Mirades històriques i contemporànies des de Barcelona
URL;VALUE=URI:https://arquitectes.cat/ca/content/dissenys-darquitectes-3-mirades-hist%C3%B2riques-i-contempor%C3%A0nies-des-de-barcelona
DTSTAMP:20260422T124432Z
UID:69e8a69092072
END:VEVENT
END:VCALENDAR