BEGIN:VCALENDAR
VERSION:2.0
PRODID:-//hacksw/handcal//NONSGML v1.0//EN
CALSCALE:GREGORIAN
BEGIN:VEVENT
LOCATION:Tortosa
DESCRIPTION:
DTSTART:20260325T163000Z
DTEND:20260325T163000Z
SUMMARY:Novíssims 03. Arjub i 082ARQ
URL;VALUE=URI:https://arquitectes.cat/ca/content/nov%C3%ADssims-03-arjub-i-082arq
DTSTAMP:20260426T051301Z
UID:69ed82bd4975c
END:VEVENT
END:VCALENDAR