BEGIN:VCALENDAR
VERSION:2.0
PRODID:-//hacksw/handcal//NONSGML v1.0//EN
CALSCALE:GREGORIAN
BEGIN:VEVENT
LOCATION:Girona
DESCRIPTION:
DTSTART:20260219T160000Z
DTEND:20260219T160000Z
SUMMARY:Nova data! Conversa "Arquitectura i pintura\, una relació necessària"\, amb Arcadi Pla\, Kim Bover i Vicenç Huedo
URL;VALUE=URI:https://arquitectes.cat/ca/content/nova-data-conversa-arquitectura-i-pintura-una-relaci%C3%B3-necess%C3%A0ria-amb-arcadi-pla-kim-bover-i
DTSTAMP:20260425T140835Z
UID:69ecaec319a8a
END:VEVENT
END:VCALENDAR