BEGIN:VCALENDAR
VERSION:2.0
PRODID:-//hacksw/handcal//NONSGML v1.0//EN
CALSCALE:GREGORIAN
BEGIN:VEVENT
LOCATION:Barcelona
DESCRIPTION:
DTSTART:20260127T100000Z
DTEND:20260127T100000Z
SUMMARY:ACTE ANUL·LAT. Bones pràctiques a l'Administració: Gavà\, Sant Cugat del Vallès i Sabadell
URL;VALUE=URI:https://arquitectes.cat/ca/content/acte-anul%C2%B7lat-bones-pr%C3%A0ctiques-ladministraci%C3%B3-gav%C3%A0-sant-cugat-del-vall%C3%A8s-i-sabadell
DTSTAMP:20260424T122216Z
UID:69eb4458594d5
END:VEVENT
END:VCALENDAR