BEGIN:VCALENDAR
VERSION:2.0
PRODID:-//hacksw/handcal//NONSGML v1.0//EN
CALSCALE:GREGORIAN
BEGIN:VEVENT
LOCATION:Tarragona
DESCRIPTION:
DTSTART:20260219T170000Z
DTEND:20260219T170000Z
SUMMARY:Cicle de cinema: "Una Vida en Común"
URL;VALUE=URI:https://arquitectes.cat/ca/content/cicle-de-cinema-una-vida-en-com%C3%BAn
DTSTAMP:20260422T074014Z
UID:69e85f3eb08f3
END:VEVENT
END:VCALENDAR