BEGIN:VCALENDAR
VERSION:2.0
PRODID:-//hacksw/handcal//NONSGML v1.0//EN
CALSCALE:GREGORIAN
BEGIN:VEVENT
LOCATION:Barcelona
DESCRIPTION:
DTSTART:20251204T150000Z
DTEND:20251204T150000Z
SUMMARY:Sessió informativa sobre el Pla de Remodelació de Mitgeres de l’Ajuntament de Barcelona
URL;VALUE=URI:https://arquitectes.cat/ca/content/sessi%C3%B3-informativa-sobre-el-pla-de-remodelaci%C3%B3-de-mitgeres-de-l%E2%80%99ajuntament-de-barcelona
DTSTAMP:20260425T142903Z
UID:69ecb38f2a385
END:VEVENT
END:VCALENDAR