BEGIN:VCALENDAR
VERSION:2.0
PRODID:-//hacksw/handcal//NONSGML v1.0//EN
CALSCALE:GREGORIAN
BEGIN:VEVENT
LOCATION:Vic
DESCRIPTION:
DTSTART:20251127T071500Z
DTEND:20251204T191500Z
SUMMARY:Projecció del documental "DIOS LO VE" a Vic
URL;VALUE=URI:https://arquitectes.cat/ca/content/projecci%C3%B3-del-documental-dios-lo-ve-vic
DTSTAMP:20260419T181748Z
UID:69e5002c25cd4
END:VEVENT
END:VCALENDAR