BEGIN:VCALENDAR
VERSION:2.0
PRODID:-//hacksw/handcal//NONSGML v1.0//EN
CALSCALE:GREGORIAN
BEGIN:VEVENT
LOCATION:Barcelona
DESCRIPTION:
DTSTART:20251201T110000Z
DTEND:20251201T110000Z
SUMMARY:Presentació i conversa al voltant de la "Guia de Seguretat\, Urbanisme i Habitatge"
URL;VALUE=URI:https://arquitectes.cat/ca/content/presentaci%C3%B3-i-conversa-al-voltant-de-la-guia-de-seguretat-urbanisme-i-habitatge
DTSTAMP:20260419T230132Z
UID:69e542ac79ec6
END:VEVENT
END:VCALENDAR