BEGIN:VCALENDAR
VERSION:2.0
PRODID:-//hacksw/handcal//NONSGML v1.0//EN
CALSCALE:GREGORIAN
BEGIN:VEVENT
LOCATION:Figueres
DESCRIPTION:
DTSTART:20251108T130000Z
DTEND:20251108T130000Z
SUMMARY:Arquivolta Figueres. Arquitectura residencial dels anys setanta
URL;VALUE=URI:https://arquitectes.cat/ca/content/arquivolta-figueres-arquitectura-residencial-dels-anys-setanta
DTSTAMP:20260419T183333Z
UID:69e503dd5199f
END:VEVENT
END:VCALENDAR