BEGIN:VCALENDAR
VERSION:2.0
PRODID:-//hacksw/handcal//NONSGML v1.0//EN
CALSCALE:GREGORIAN
BEGIN:VEVENT
LOCATION:Tarragona
DESCRIPTION:
DTSTART:20251127T173000Z
DTEND:20251127T173000Z
SUMMARY:Conferencia | Maio Architects
URL;VALUE=URI:https://arquitectes.cat/ca/node/41854
DTSTAMP:20260426T033618Z
UID:69ed6c1259752
END:VEVENT
END:VCALENDAR