BEGIN:VCALENDAR
VERSION:2.0
PRODID:-//hacksw/handcal//NONSGML v1.0//EN
CALSCALE:GREGORIAN
BEGIN:VEVENT
LOCATION:Barcelona
DESCRIPTION:
DTSTART:20251209T163000Z
DTEND:20251209T163000Z
SUMMARY:Presentació del Quaderns 277: nous horitzons per a l’habitatge col·lectiu
URL;VALUE=URI:https://arquitectes.cat/ca/content/presentaci%C3%B3-del-quaderns-277-nous-horitzons-l%E2%80%99habitatge-col%C2%B7lectiu
DTSTAMP:20260425T185500Z
UID:69ecf1e4b6adb
END:VEVENT
END:VCALENDAR