BEGIN:VCALENDAR
VERSION:2.0
PRODID:-//hacksw/handcal//NONSGML v1.0//EN
CALSCALE:GREGORIAN
BEGIN:VEVENT
LOCATION:Barcelona
DESCRIPTION:
DTSTART:20251027T163000Z
DTEND:20251027T163000Z
SUMMARY:CulturTalks with Camilo Restrepo (AGENdA) _ Toward a pragmatic bricolage
URL;VALUE=URI:https://arquitectes.cat/ca/content/culturtalks-camilo-restrepo-agenda-toward-pragmatic-bricolage
DTSTAMP:20260419T200955Z
UID:69e51a73b8ad3
END:VEVENT
END:VCALENDAR