BEGIN:VCALENDAR
VERSION:2.0
PRODID:-//hacksw/handcal//NONSGML v1.0//EN
CALSCALE:GREGORIAN
BEGIN:VEVENT
LOCATION:Barcelona
DESCRIPTION:
DTSTART:20251014T163000Z
DTEND:20251014T163000Z
SUMMARY:Jornada: Recuperar l'Escola del Mar?
URL;VALUE=URI:https://arquitectes.cat/ca/content/jornada-recuperar-lescola-del-mar
DTSTAMP:20260426T053634Z
UID:69ed8842847ec
END:VEVENT
END:VCALENDAR