BEGIN:VCALENDAR
VERSION:2.0
PRODID:-//hacksw/handcal//NONSGML v1.0//EN
CALSCALE:GREGORIAN
BEGIN:VEVENT
LOCATION:Barcelona
DESCRIPTION:
DTSTART:20251007T163000Z
DTEND:20251007T163000Z
SUMMARY:Presentació: "Si Velázquez lo supiera"
URL;VALUE=URI:https://arquitectes.cat/ca/content/presentaci%C3%B3-si-vel%C3%A1zquez-lo-supiera
DTSTAMP:20260419T140258Z
UID:69e4c47240cb3
END:VEVENT
END:VCALENDAR