BEGIN:VCALENDAR
VERSION:2.0
PRODID:-//hacksw/handcal//NONSGML v1.0//EN
CALSCALE:GREGORIAN
BEGIN:VEVENT
LOCATION:Tarragona
DESCRIPTION:
DTSTART:20250929T060000Z
DTEND:20251107T130000Z
SUMMARY:Exhibition "Gaudí's Invisible Garden"
URL;VALUE=URI:https://arquitectes.cat/ca/node/41719
DTSTAMP:20260423T195737Z
UID:69ea5d916beef
END:VEVENT
END:VCALENDAR