BEGIN:VCALENDAR
VERSION:2.0
PRODID:-//hacksw/handcal//NONSGML v1.0//EN
CALSCALE:GREGORIAN
BEGIN:VEVENT
LOCATION:Barcelona
DESCRIPTION:
DTSTART:20251008T170000Z
DTEND:20251008T170000Z
SUMMARY:Presentació de la Revista AxA 05. "Vivienda asequible inasequible (1) | El transporte\, motor de oportunidades"
URL;VALUE=URI:https://arquitectes.cat/ca/content/presentaci%C3%B3-de-la-revista-axa-05-vivienda-asequible-inasequible-1-el-transporte-motor-de
DTSTAMP:20260426T051411Z
UID:69ed83034fa13
END:VEVENT
END:VCALENDAR