BEGIN:VCALENDAR
VERSION:2.0
PRODID:-//hacksw/handcal//NONSGML v1.0//EN
CALSCALE:GREGORIAN
BEGIN:VEVENT
LOCATION:Barcelona
DESCRIPTION:
DTSTART:20251002T094500Z
DTEND:20251016T094500Z
SUMMARY:La II Biennal d’Arquitectura Jove transforma finals en nous començaments
URL;VALUE=URI:https://arquitectes.cat/ca/content/la-ii-biennal-d%E2%80%99arquitectura-jove-transforma-finals-en-nous-comen%C3%A7aments
DTSTAMP:20260419T174819Z
UID:69e4f94353c6e
END:VEVENT
END:VCALENDAR