BEGIN:VCALENDAR
VERSION:2.0
PRODID:-//hacksw/handcal//NONSGML v1.0//EN
CALSCALE:GREGORIAN
BEGIN:VEVENT
LOCATION:Barcelona
DESCRIPTION:
DTSTART:20251008T063000Z
DTEND:20251008T063000Z
SUMMARY:Esmorzar: Compartim aprenentatges d’Arquitectura a les Aules
URL;VALUE=URI:https://arquitectes.cat/ca/content/esmorzar-compartim-aprenentatges-d%E2%80%99arquitectura-les-aules
DTSTAMP:20260425T181928Z
UID:69ece9905028e
END:VEVENT
END:VCALENDAR