BEGIN:VCALENDAR
VERSION:2.0
PRODID:-//hacksw/handcal//NONSGML v1.0//EN
CALSCALE:GREGORIAN
BEGIN:VEVENT
LOCATION:En línia
DESCRIPTION:
DTSTART:20251104T100000Z
DTEND:20251104T100000Z
SUMMARY:Jornada Tècnica | Sòls de fusta en combinació amb els sistemes de calefacció radiant
URL;VALUE=URI:https://arquitectes.cat/ca/content/jornada-t%C3%A8cnica-s%C3%B2ls-de-fusta-en-combinaci%C3%B3-amb-els-sistemes-de-calefacci%C3%B3-radiant
DTSTAMP:20260425T142846Z
UID:69ecb37eec10d
END:VEVENT
END:VCALENDAR