BEGIN:VCALENDAR
VERSION:2.0
PRODID:-//hacksw/handcal//NONSGML v1.0//EN
CALSCALE:GREGORIAN
BEGIN:VEVENT
LOCATION:Barcelona
DESCRIPTION:
DTSTART:20250926T160000Z
DTEND:20250926T160000Z
SUMMARY:"Ellas en la ciudad". Projecció i col·loqui
URL;VALUE=URI:https://arquitectes.cat/ca/content/ellas-en-la-ciudad-projecci%C3%B3-i-col%C2%B7loqui
DTSTAMP:20260419T233648Z
UID:69e54af0c665f
END:VEVENT
END:VCALENDAR