BEGIN:VCALENDAR
VERSION:2.0
PRODID:-//hacksw/handcal//NONSGML v1.0//EN
CALSCALE:GREGORIAN
BEGIN:VEVENT
LOCATION:Barcelona
DESCRIPTION:
DTSTART:20251001T170000Z
DTEND:20251001T170000Z
SUMMARY:Presentació: "Ciudades escritas. Un viaje urbano desde la literatura". Octavio Mestre
URL;VALUE=URI:https://arquitectes.cat/ca/content/presentaci%C3%B3-ciudades-escritas-un-viaje-urbano-desde-la-literatura-octavio-mestre
DTSTAMP:20260419T205148Z
UID:69e52444ecfa5
END:VEVENT
END:VCALENDAR