BEGIN:VCALENDAR
VERSION:2.0
PRODID:-//hacksw/handcal//NONSGML v1.0//EN
CALSCALE:GREGORIAN
BEGIN:VEVENT
LOCATION:Barcelona
DESCRIPTION:
DTSTART:20251027T163000Z
DTEND:20251027T163000Z
SUMMARY:Debate Urbano. De asfalto al encuentro. Capital social y supermanzanas
URL;VALUE=URI:https://arquitectes.cat/ca/content/debate-urbano-de-asfalto-al-encuentro-capital-social-y-supermanzanas
DTSTAMP:20260419T224606Z
UID:69e53f0e3a824
END:VEVENT
END:VCALENDAR