BEGIN:VCALENDAR
VERSION:2.0
PRODID:-//hacksw/handcal//NONSGML v1.0//EN
CALSCALE:GREGORIAN
BEGIN:VEVENT
LOCATION:Barcelona
DESCRIPTION:
DTSTART:20250727T093000Z
DTEND:20250831T093000Z
SUMMARY:Visites guiades a la seu del COAC de Barcelona\, de la mà de Cases Singulars
URL;VALUE=URI:https://arquitectes.cat/ca/content/visites-guiades-la-seu-del-coac-de-barcelona-de-la-m%C3%A0-de-cases-singulars-0
DTSTAMP:20260426T034043Z
UID:69ed6d1b01cbe
END:VEVENT
END:VCALENDAR