BEGIN:VCALENDAR
VERSION:2.0
PRODID:-//hacksw/handcal//NONSGML v1.0//EN
CALSCALE:GREGORIAN
BEGIN:VEVENT
LOCATION:Cornellà de Llobregat
DESCRIPTION:
DTSTART:20251003T100000Z
DTEND:20251003T100000Z
SUMMARY:Visita tècnica al Showroom de SALTOKI a Cornellà
URL;VALUE=URI:https://arquitectes.cat/ca/content/visita-t%C3%A8cnica-al-showroom-de-saltoki-cornell%C3%A0
DTSTAMP:20260419T203537Z
UID:69e52079ceb00
END:VEVENT
END:VCALENDAR