BEGIN:VCALENDAR
VERSION:2.0
PRODID:-//hacksw/handcal//NONSGML v1.0//EN
CALSCALE:GREGORIAN
BEGIN:VEVENT
LOCATION:Barcelona
DESCRIPTION:
DTSTART:20250723T113000Z
DTEND:20250724T113000Z
SUMMARY:III Jornades de Fotografia i Arquitectura: Relats propis (Fundació Toni Catany)
URL;VALUE=URI:https://arquitectes.cat/ca/content/iii-jornades-de-fotografia-i-arquitectura-relats-propis-fundaci%C3%B3-toni-catany
DTSTAMP:20260420T052807Z
UID:69e59d47cd0d1
END:VEVENT
END:VCALENDAR