BEGIN:VCALENDAR
VERSION:2.0
PRODID:-//hacksw/handcal//NONSGML v1.0//EN
CALSCALE:GREGORIAN
BEGIN:VEVENT
LOCATION:
DESCRIPTION:
DTSTART:20250610T140000Z
DTEND:20250610T150000Z
SUMMARY:Workshop Habitares Futuros
URL;VALUE=URI:https://arquitectes.cat/ca/node/41487
DTSTAMP:20260424T020706Z
UID:69eab42a402d3
END:VEVENT
END:VCALENDAR