BEGIN:VCALENDAR
VERSION:2.0
PRODID:-//hacksw/handcal//NONSGML v1.0//EN
CALSCALE:GREGORIAN
BEGIN:VEVENT
LOCATION:Barcelona
DESCRIPTION:
DTSTART:20250605T170000Z
DTEND:20250605T170000Z
SUMMARY:Presentació de la Revista AxA 04 | "Patrimonio moderno\, entre la agresión y el olvido"
URL;VALUE=URI:https://arquitectes.cat/ca/content/presentaci%C3%B3-de-la-revista-axa-04-patrimonio-moderno-entre-la-agresi%C3%B3n-y-el-olvido
DTSTAMP:20260420T033925Z
UID:69e583cd17e49
END:VEVENT
END:VCALENDAR