BEGIN:VCALENDAR
VERSION:2.0
PRODID:-//hacksw/handcal//NONSGML v1.0//EN
CALSCALE:GREGORIAN
BEGIN:VEVENT
LOCATION:Barcelona
DESCRIPTION:
DTSTART:20250530T100000Z
DTEND:20250530T100000Z
SUMMARY:La arquitectura del hospital | Antonio Ocaña (AIDHOS Arquitectura)
URL;VALUE=URI:https://arquitectes.cat/ca/content/la-arquitectura-del-hospital-antonio-oca%C3%B1a-aidhos-arquitectura
DTSTAMP:20260419T234019Z
UID:69e54bc319f51
END:VEVENT
END:VCALENDAR