BEGIN:VCALENDAR
VERSION:2.0
PRODID:-//hacksw/handcal//NONSGML v1.0//EN
CALSCALE:GREGORIAN
BEGIN:VEVENT
LOCATION:Barcelona
DESCRIPTION:
DTSTART:20250604T120000Z
DTEND:20250627T120000Z
SUMMARY:Exposició: L’estadi contemporani. L35 Architects
URL;VALUE=URI:https://arquitectes.cat/ca/content/exposici%C3%B3-l%E2%80%99estadi-contemporani-l35-architects
DTSTAMP:20260419T150029Z
UID:69e4d1ed1345e
END:VEVENT
END:VCALENDAR