BEGIN:VCALENDAR
VERSION:2.0
PRODID:-//hacksw/handcal//NONSGML v1.0//EN
CALSCALE:GREGORIAN
BEGIN:VEVENT
LOCATION:Barcelona
DESCRIPTION:
DTSTART:20250530T150000Z
DTEND:20251128T113000Z
SUMMARY:Una nova porta a l'art
URL;VALUE=URI:https://arquitectes.cat/ca/content/una-nova-porta-lart
DTSTAMP:20260424T071406Z
UID:69eafc1ed9969
END:VEVENT
END:VCALENDAR