BEGIN:VCALENDAR
VERSION:2.0
PRODID:-//hacksw/handcal//NONSGML v1.0//EN
CALSCALE:GREGORIAN
BEGIN:VEVENT
LOCATION:
DESCRIPTION:
DTSTART:20250627T080000Z
DTEND:20250627T080000Z
SUMMARY:Visita a la cimentera i a la planta de matèries primeres alternatives (MPA) de Ciments Molins
URL;VALUE=URI:https://arquitectes.cat/ca/content/visita-la-cimentera-i-la-planta-de-mat%C3%A8ries-primeres-alternatives-mpa-de-ciments-molins
DTSTAMP:20260419T145658Z
UID:69e4d11a7d5f3
END:VEVENT
END:VCALENDAR