BEGIN:VCALENDAR
VERSION:2.0
PRODID:-//hacksw/handcal//NONSGML v1.0//EN
CALSCALE:GREGORIAN
BEGIN:VEVENT
LOCATION:Barcelona
DESCRIPTION:
DTSTART:20250612T170000Z
DTEND:20250612T170000Z
SUMMARY:Presentació: "Nuevas miradas sobre el espacio público"
URL;VALUE=URI:https://arquitectes.cat/ca/content/presentaci%C3%B3-nuevas-miradas-sobre-el-espacio-p%C3%BAblico
DTSTAMP:20260419T140443Z
UID:69e4c4db60b72
END:VEVENT
END:VCALENDAR