BEGIN:VCALENDAR
VERSION:2.0
PRODID:-//hacksw/handcal//NONSGML v1.0//EN
CALSCALE:GREGORIAN
BEGIN:VEVENT
LOCATION:Barcelona
DESCRIPTION:
DTSTART:20250516T100000Z
DTEND:20250516T100000Z
SUMMARY:Hospitals discontinus | Francesc Pernas
URL;VALUE=URI:https://arquitectes.cat/ca/content/hospitals-discontinus-francesc-pernas
DTSTAMP:20260419T222506Z
UID:69e53a225c08e
END:VEVENT
END:VCALENDAR