BEGIN:VCALENDAR
VERSION:2.0
PRODID:-//hacksw/handcal//NONSGML v1.0//EN
CALSCALE:GREGORIAN
BEGIN:VEVENT
LOCATION:Olot
DESCRIPTION:
DTSTART:20250521T170000Z
DTEND:20250720T120000Z
SUMMARY:Exposició 'El Material de lo construido'
URL;VALUE=URI:https://arquitectes.cat/ca/content/exposici%C3%B3-el-material-de-lo-construido-0
DTSTAMP:20260424T232141Z
UID:69ebdee5d6109
END:VEVENT
END:VCALENDAR