BEGIN:VCALENDAR
VERSION:2.0
PRODID:-//hacksw/handcal//NONSGML v1.0//EN
CALSCALE:GREGORIAN
BEGIN:VEVENT
LOCATION:Barcelona
DESCRIPTION:
DTSTART:20250403T080000Z
DTEND:20251109T080000Z
SUMMARY:Exposición: Chris Ware Dibujar es pensar
URL;VALUE=URI:https://arquitectes.cat/ca/node/41399
DTSTAMP:20260426T050223Z
UID:69ed803fe95d2
END:VEVENT
END:VCALENDAR