BEGIN:VCALENDAR
VERSION:2.0
PRODID:-//hacksw/handcal//NONSGML v1.0//EN
CALSCALE:GREGORIAN
BEGIN:VEVENT
LOCATION:Barcelona
DESCRIPTION:
DTSTART:20250529T153000Z
DTEND:20250529T153000Z
SUMMARY:Re-visitant els Premis FAD d'Arquitectura i Interiorisme
URL;VALUE=URI:https://arquitectes.cat/ca/content/re-visitant-els-premis-fad-darquitectura-i-interiorisme-1
DTSTAMP:20260425T194810Z
UID:69ecfe5a01773
END:VEVENT
END:VCALENDAR