BEGIN:VCALENDAR
VERSION:2.0
PRODID:-//hacksw/handcal//NONSGML v1.0//EN
CALSCALE:GREGORIAN
BEGIN:VEVENT
LOCATION:Barcelona
DESCRIPTION:
DTSTART:20250526T090000Z
DTEND:20250526T090000Z
SUMMARY:Jornada: Descarbonización y rehabilitación energética. Innovación e impacto social
URL;VALUE=URI:https://arquitectes.cat/ca/node/41385
DTSTAMP:20260419T173049Z
UID:69e4f52984b1d
END:VEVENT
END:VCALENDAR