BEGIN:VCALENDAR
VERSION:2.0
PRODID:-//hacksw/handcal//NONSGML v1.0//EN
CALSCALE:GREGORIAN
BEGIN:VEVENT
LOCATION:Barcelona
DESCRIPTION:
DTSTART:20250531T090000Z
DTEND:20250531T090000Z
SUMMARY:Itinerari “La Barcelona de Tàpies”
URL;VALUE=URI:https://arquitectes.cat/ca/content/itinerari-%E2%80%9Cla-barcelona-de-t%C3%A0pies%E2%80%9D
DTSTAMP:20260419T155303Z
UID:69e4de3f71675
END:VEVENT
END:VCALENDAR