BEGIN:VCALENDAR
VERSION:2.0
PRODID:-//hacksw/handcal//NONSGML v1.0//EN
CALSCALE:GREGORIAN
BEGIN:VEVENT
LOCATION:Barcelona
DESCRIPTION:
DTSTART:20250530T150000Z
DTEND:20250530T150000Z
SUMMARY:Visita guiada al Pabellón de la República
URL;VALUE=URI:https://arquitectes.cat/ca/node/41358
DTSTAMP:20260422T051115Z
UID:69e83c53a3388
END:VEVENT
END:VCALENDAR