BEGIN:VCALENDAR
VERSION:2.0
PRODID:-//hacksw/handcal//NONSGML v1.0//EN
CALSCALE:GREGORIAN
BEGIN:VEVENT
LOCATION:Barcelona
DESCRIPTION:
DTSTART:20250618T170000Z
DTEND:20250618T170000Z
SUMMARY:Converses Desenfadades: Carme Pinós i Carles Enrich
URL;VALUE=URI:https://arquitectes.cat/ca/content/converses-desenfadades-carme-pin%C3%B3s-i-carles-enrich
DTSTAMP:20260419T225855Z
UID:69e5420fcd99c
END:VEVENT
END:VCALENDAR