BEGIN:VCALENDAR
VERSION:2.0
PRODID:-//hacksw/handcal//NONSGML v1.0//EN
CALSCALE:GREGORIAN
BEGIN:VEVENT
LOCATION:Tarragona
DESCRIPTION:
DTSTART:20250416T060000Z
DTEND:20250522T160000Z
SUMMARY:Exposición "Piel Mutante"
URL;VALUE=URI:https://arquitectes.cat/ca/node/41242
DTSTAMP:20260424T054844Z
UID:69eae81c0d73d
END:VEVENT
END:VCALENDAR