BEGIN:VCALENDAR
VERSION:2.0
PRODID:-//hacksw/handcal//NONSGML v1.0//EN
CALSCALE:GREGORIAN
BEGIN:VEVENT
LOCATION:Tortosa
DESCRIPTION:
DTSTART:20250410T170000Z
DTEND:20250410T170000Z
SUMMARY:Diàlegs d’Arquitectura amb... Converses llibresques amb Leonardo\, de la barra de pa a Valery
URL;VALUE=URI:https://arquitectes.cat/ca/content/di%C3%A0legs-d%E2%80%99arquitectura-amb-converses-llibresques-amb-leonardo-de-la-barra-de-pa-valery
DTSTAMP:20260420T013059Z
UID:69e565b34c499
END:VEVENT
END:VCALENDAR