BEGIN:VCALENDAR
VERSION:2.0
PRODID:-//hacksw/handcal//NONSGML v1.0//EN
CALSCALE:GREGORIAN
BEGIN:VEVENT
LOCATION:Barcelona
DESCRIPTION:
DTSTART:20250409T100000Z
DTEND:20250409T100000Z
SUMMARY:Visita guiada a La Marina del Prat Vermell
URL;VALUE=URI:https://arquitectes.cat/ca/content/visita-guiada-la-marina-del-prat-vermell
DTSTAMP:20260424T020823Z
UID:69eab47720818
END:VEVENT
END:VCALENDAR