BEGIN:VCALENDAR
VERSION:2.0
PRODID:-//hacksw/handcal//NONSGML v1.0//EN
CALSCALE:GREGORIAN
BEGIN:VEVENT
LOCATION:Barcelona
DESCRIPTION:
DTSTART:20250328T100000Z
DTEND:20250328T100000Z
SUMMARY:Conferència de Jordi Badia (BAAS)
URL;VALUE=URI:https://arquitectes.cat/ca/content/confer%C3%A8ncia-de-jordi-badia-baas
DTSTAMP:20260426T015036Z
UID:69ed534c273fd
END:VEVENT
END:VCALENDAR