BEGIN:VCALENDAR
VERSION:2.0
PRODID:-//hacksw/handcal//NONSGML v1.0//EN
CALSCALE:GREGORIAN
BEGIN:VEVENT
LOCATION:Barcelona
DESCRIPTION:
DTSTART:20250321T080000Z
DTEND:20250928T170000Z
SUMMARY:Manel Esclusa. Les formes que mouen l’existència
URL;VALUE=URI:https://arquitectes.cat/ca/content/manel-esclusa-les-formes-que-mouen-l%E2%80%99exist%C3%A8ncia
DTSTAMP:20260423T015528Z
UID:69e95ff0ecf0e
END:VEVENT
END:VCALENDAR