BEGIN:VCALENDAR
VERSION:2.0
PRODID:-//hacksw/handcal//NONSGML v1.0//EN
CALSCALE:GREGORIAN
BEGIN:VEVENT
LOCATION:Barcelona
DESCRIPTION:
DTSTART:20250403T130000Z
DTEND:20250403T130000Z
SUMMARY: Visita tècnica al Recinte Modernista de l’Hospital de Sant Pau de Barcelona
URL;VALUE=URI:https://arquitectes.cat/ca/content/visita-t%C3%A8cnica%E2%80%AFal-recinte-modernista-de-l%E2%80%99hospital-de-sant-pau-de-barcelona
DTSTAMP:20260419T185031Z
UID:69e507d76a299
END:VEVENT
END:VCALENDAR